BEGIN:VCALENDAR
VERSION:2.0
PRODID:-//Contratero//ES
CALSCALE:GREGORIAN
METHOD:PUBLISH
BEGIN:VEVENT
UID:858231N@contratero.es
DTSTAMP:20260423T085717Z
DTSTART:20211216T235959
DTEND:20211217T005959
SUMMARY:Cierre: Servicios de software para la gestión integral del
DESCRIPTION:Servicios de software para la gestión integral del personal en el Ayuntamiento de Quart de Poblet.\\n\\nOrganismo: Alcaldía del Ayuntamiento de Quart de Poblet\\n\\nVer en Contratero: https://contratero.es/contracts/858231N
URL:https://contratero.es/contracts/858231N
STATUS:CONFIRMED
BEGIN:VALARM
TRIGGER:-P1D
ACTION:DISPLAY
DESCRIPTION:Recordatorio: Servicios de software para la 
END:VALARM
END:VEVENT
END:VCALENDAR