BEGIN:VCALENDAR
VERSION:2.0
PRODID:-//Contratero//ES
CALSCALE:GREGORIAN
METHOD:PUBLISH
BEGIN:VEVENT
UID:8628J@contratero.es
DTSTAMP:20260423T184015Z
DTSTART:20240906T235959
DTEND:20240907T005959
SUMMARY:Cierre: Suministro en régimen de alquiler de licencias de 
DESCRIPTION:Suministro en régimen de alquiler de licencias de programa VEEAM BACKUP ESSENTIALS STANDARD\\n\\nOrganismo: Alcaldia del Ayuntamiento de Castrillón\\n\\nVer en Contratero: https://contratero.es/contracts/8628J
URL:https://contratero.es/contracts/8628J
STATUS:CONFIRMED
BEGIN:VALARM
TRIGGER:-P1D
ACTION:DISPLAY
DESCRIPTION:Recordatorio: Suministro en régimen de alqui
END:VALARM
END:VEVENT
END:VCALENDAR