BEGIN:VCALENDAR
VERSION:2.0
PRODID:-//Contratero//ES
CALSCALE:GREGORIAN
METHOD:PUBLISH
BEGIN:VEVENT
UID:87/2025@contratero.es
DTSTAMP:20260420T155319Z
DTSTART:20251211T235959
DTEND:20251212T005959
SUMMARY:Cierre: Servicio informático relativo al mantenimiento de 
DESCRIPTION:Servicio informático relativo al mantenimiento de la plataforma de gestión aula1 en la escuela municipal de música del Ayuntamiento de Ávila\\n\\nOrganismo: Junta de Gobierno Local del Ayuntamiento de Ávila\\n\\nVer en Contratero: https://contratero.es/contracts/87/2025
URL:https://contratero.es/contracts/87/2025
STATUS:CONFIRMED
BEGIN:VALARM
TRIGGER:-P1D
ACTION:DISPLAY
DESCRIPTION:Recordatorio: Servicio informático relativo 
END:VALARM
END:VEVENT
END:VCALENDAR