BEGIN:VCALENDAR
VERSION:2.0
PRODID:-//Contratero//ES
CALSCALE:GREGORIAN
METHOD:PUBLISH
BEGIN:VEVENT
UID:88/2025@contratero.es
DTSTAMP:20260422T080052Z
DTSTART:20251224T235959
DTEND:20251225T005959
SUMMARY:Cierre: Servicio informático relativo al mantenimiento del
DESCRIPTION:Servicio informático relativo al mantenimiento del sistema de gestión de sanciones de tráfico del Ayuntamiento de Ávila\\n\\nOrganismo: Junta de Gobierno Local del Ayuntamiento de Ávila\\n\\nVer en Contratero: https://contratero.es/contracts/88/2025
URL:https://contratero.es/contracts/88/2025
STATUS:CONFIRMED
BEGIN:VALARM
TRIGGER:-P1D
ACTION:DISPLAY
DESCRIPTION:Recordatorio: Servicio informático relativo 
END:VALARM
END:VEVENT
END:VCALENDAR