BEGIN:VCALENDAR
VERSION:2.0
PRODID:-//Contratero//ES
CALSCALE:GREGORIAN
METHOD:PUBLISH
BEGIN:VEVENT
UID:8842/2025@contratero.es
DTSTAMP:20260420T084504Z
DTSTART:20251003T235959
DTEND:20251004T005959
SUMMARY:Cierre: Suministro de licencias de Software y dispositivos
DESCRIPTION:Suministro de licencias de Software y dispositivos de firma Biométrica\\n\\nOrganismo: Alcaldía del Ayuntamiento de Azuqueca de Henares\\n\\nVer en Contratero: https://contratero.es/contracts/8842/2025
URL:https://contratero.es/contracts/8842/2025
STATUS:CONFIRMED
BEGIN:VALARM
TRIGGER:-P1D
ACTION:DISPLAY
DESCRIPTION:Recordatorio: Suministro de licencias de Sof
END:VALARM
END:VEVENT
END:VCALENDAR