BEGIN:VCALENDAR
VERSION:2.0
PRODID:-//Contratero//ES
CALSCALE:GREGORIAN
METHOD:PUBLISH
BEGIN:VEVENT
UID:899/2022@contratero.es
DTSTAMP:20260423T163542Z
DTSTART:20221102T235959
DTEND:20221103T005959
SUMMARY:Cierre: Suministro de licencias y dispositivos\, su instala
DESCRIPTION:Suministro de licencias y dispositivos\, su instalación y puesta en marcha y de los Servicios de construcción\, implantación\, evolución y soporte de un sistema de llamada a pacientes en salas de espera ...\\n\\nOrganismo: Subsecretaría de la Consellería de Sanidad y Salud Pública\\n\\nVer en Contratero: https://contratero.es/contracts/899/2022
URL:https://contratero.es/contracts/899/2022
STATUS:CONFIRMED
BEGIN:VALARM
TRIGGER:-P1D
ACTION:DISPLAY
DESCRIPTION:Recordatorio: Suministro de licencias y disp
END:VALARM
END:VEVENT
END:VCALENDAR