BEGIN:VCALENDAR
VERSION:2.0
PRODID:-//Contratero//ES
CALSCALE:GREGORIAN
METHOD:PUBLISH
BEGIN:VEVENT
UID:9/GE22@contratero.es
DTSTAMP:20260423T053817Z
DTSTART:20220512T235959
DTEND:20220513T005959
SUMMARY:Cierre: Servicio de Soporte Básico y Business Critical Ass
DESCRIPTION:Servicio de Soporte Básico y Business Critical Assistance de la base de datos de Oracle\\n\\nOrganismo: Presidencia del Organismo Autónomo de Gestión Económica y Recaudación del Excmo. Ayuntamiento de Salamanca (O.A.G.E.R.)\\n\\nVer en Contratero: https://contratero.es/contracts/9/GE22
URL:https://contratero.es/contracts/9/GE22
STATUS:CONFIRMED
BEGIN:VALARM
TRIGGER:-P1D
ACTION:DISPLAY
DESCRIPTION:Recordatorio: Servicio de Soporte Básico y B
END:VALARM
END:VEVENT
END:VCALENDAR