BEGIN:VCALENDAR
VERSION:2.0
PRODID:-//Contratero//ES
CALSCALE:GREGORIAN
METHOD:PUBLISH
BEGIN:VEVENT
UID:90/2026@contratero.es
DTSTAMP:20260419T135222Z
DTSTART:20260318T235959
DTEND:20260319T005959
SUMMARY:Cierre: Servicios de correo electrónico y herramientas col
DESCRIPTION:Servicios de correo electrónico y herramientas colaborativas mediante un modelo SaaS (Software as a Service\, Software como servicio)\\n\\nOrganismo: Alcaldía del Ayuntamiento de Valsequillo de Gran Canaria\\n\\nVer en Contratero: https://contratero.es/contracts/90/2026
URL:https://contratero.es/contracts/90/2026
STATUS:CONFIRMED
BEGIN:VALARM
TRIGGER:-P1D
ACTION:DISPLAY
DESCRIPTION:Recordatorio: Servicios de correo electrónic
END:VALARM
END:VEVENT
END:VCALENDAR