BEGIN:VCALENDAR
VERSION:2.0
PRODID:-//Contratero//ES
CALSCALE:GREGORIAN
METHOD:PUBLISH
BEGIN:VEVENT
UID:90/21/SG/PA/SE@contratero.es
DTSTAMP:20260423T015902Z
DTSTART:20210906T235959
DTEND:20210907T005959
SUMMARY:Cierre: Servicios de alojamiento de servidores (Housing) p
DESCRIPTION:Servicios de alojamiento de servidores (Housing) para la la Confederación Hidrográfica del Miño-Sil\, O.A.\\n\\nOrganismo: Presidencia de la Confederación Hidrográfica del Miño-Sil\\n\\nVer en Contratero: https://contratero.es/contracts/90/21/SG/PA/SE
URL:https://contratero.es/contracts/90/21/SG/PA/SE
STATUS:CONFIRMED
BEGIN:VALARM
TRIGGER:-P1D
ACTION:DISPLAY
DESCRIPTION:Recordatorio: Servicios de alojamiento de se
END:VALARM
END:VEVENT
END:VCALENDAR