BEGIN:VCALENDAR
VERSION:2.0
PRODID:-//Contratero//ES
CALSCALE:GREGORIAN
METHOD:PUBLISH
BEGIN:VEVENT
UID:90/pass/ser/24@contratero.es
DTSTAMP:20260424T064407Z
DTSTART:20240906T235959
DTEND:20240907T005959
SUMMARY:Cierre: Servicios de Auditoría de Certificación del Esquem
DESCRIPTION:Servicios de Auditoría de Certificación del Esquema Nacional de Seguridad (ENS) del Sistema de Información de Suma Gestión Tributaria.\\n\\nOrganismo: Dirección de Suma Gestión Tributaria. Diputación de Alicante\\n\\nVer en Contratero: https://contratero.es/contracts/90/pass/ser/24
URL:https://contratero.es/contracts/90/pass/ser/24
STATUS:CONFIRMED
BEGIN:VALARM
TRIGGER:-P1D
ACTION:DISPLAY
DESCRIPTION:Recordatorio: Servicios de Auditoría de Cert
END:VALARM
END:VEVENT
END:VCALENDAR