BEGIN:VCALENDAR
VERSION:2.0
PRODID:-//Contratero//ES
CALSCALE:GREGORIAN
METHOD:PUBLISH
BEGIN:VEVENT
UID:91/2024@contratero.es
DTSTAMP:20260424T052059Z
DTSTART:20240912T235959
DTEND:20240913T005959
SUMMARY:Cierre: Aprovechamiento de madera del monte nº 153 del C.U
DESCRIPTION:Aprovechamiento de madera del monte nº 153 del C.U.P. denominado "Riberas del Adaja y del Eresma y otros"\\n\\nOrganismo: Alcaldía del Ayuntamiento de Matapozuelos\\n\\nVer en Contratero: https://contratero.es/contracts/91/2024
URL:https://contratero.es/contracts/91/2024
STATUS:CONFIRMED
BEGIN:VALARM
TRIGGER:-P1D
ACTION:DISPLAY
DESCRIPTION:Recordatorio: Aprovechamiento de madera del 
END:VALARM
END:VEVENT
END:VCALENDAR