BEGIN:VCALENDAR
VERSION:2.0
PRODID:-//Contratero//ES
CALSCALE:GREGORIAN
METHOD:PUBLISH
BEGIN:VEVENT
UID:913488J@contratero.es
DTSTAMP:20260422T200111Z
DTSTART:20220808T235959
DTEND:20220809T005959
SUMMARY:Cierre: Servicios de impresión\, plegado\, sellado\, clasific
DESCRIPTION:Servicios de impresión\, plegado\, sellado\, clasificado y depósito en correos de recibos y documentos relacionados con la gestión y recaudación de tributos e ingresos de derecho público en período volun...\\n\\nOrganismo: Presidencia de la Diputación Provincial de León\\n\\nVer en Contratero: https://contratero.es/contracts/913488J
URL:https://contratero.es/contracts/913488J
STATUS:CONFIRMED
BEGIN:VALARM
TRIGGER:-P1D
ACTION:DISPLAY
DESCRIPTION:Recordatorio: Servicios de impresión\, plegad
END:VALARM
END:VEVENT
END:VCALENDAR