BEGIN:VCALENDAR
VERSION:2.0
PRODID:-//Contratero//ES
CALSCALE:GREGORIAN
METHOD:PUBLISH
BEGIN:VEVENT
UID:922/2022@contratero.es
DTSTAMP:20260425T174003Z
DTSTART:20220922T235959
DTEND:20220923T005959
SUMMARY:Cierre: Asistencia técnica para sostenimiento de las comun
DESCRIPTION:Asistencia técnica para sostenimiento de las comunicaciones y sistemas de las redes de mando y control de la Armada.\\n\\nOrganismo: Dirección de Gestión Económica de la Jefatura de Apoyo Logístico de la Armada\\n\\nVer en Contratero: https://contratero.es/contracts/922/2022
URL:https://contratero.es/contracts/922/2022
STATUS:CONFIRMED
BEGIN:VALARM
TRIGGER:-P1D
ACTION:DISPLAY
DESCRIPTION:Recordatorio: Asistencia técnica para sosten
END:VALARM
END:VEVENT
END:VCALENDAR