BEGIN:VCALENDAR
VERSION:2.0
PRODID:-//Contratero//ES
CALSCALE:GREGORIAN
METHOD:PUBLISH
BEGIN:VEVENT
UID:922/2026@contratero.es
DTSTAMP:20260419T154710Z
DTSTART:20260202T235959
DTEND:20260203T005959
SUMMARY:Cierre: Servicio de mantenimiento del aplicativo W-CRONOS 
DESCRIPTION:Servicio de mantenimiento del aplicativo W-CRONOS del OAL Centro Municipal de asistencia Hospital Asilo Santa Marta\\n\\nOrganismo: Alcaldía del Ayuntamiento de Villajoyosa\\n\\nVer en Contratero: https://contratero.es/contracts/922/2026
URL:https://contratero.es/contracts/922/2026
STATUS:CONFIRMED
BEGIN:VALARM
TRIGGER:-P1D
ACTION:DISPLAY
DESCRIPTION:Recordatorio: Servicio de mantenimiento del 
END:VALARM
END:VEVENT
END:VCALENDAR