BEGIN:VCALENDAR
VERSION:2.0
PRODID:-//Contratero//ES
CALSCALE:GREGORIAN
METHOD:PUBLISH
BEGIN:VEVENT
UID:9357/2024@contratero.es
DTSTAMP:20260420T030434Z
DTSTART:20250127T235959
DTEND:20250128T005959
SUMMARY:Cierre: Contrato de suministro en régimen de arrendamiento
DESCRIPTION:Contrato de suministro en régimen de arrendamiento de una plataforma de gestión en entorno web para la agencia de colocación del Ayuntamiento de Llanera\\n\\nOrganismo: Concejalía Delegada de Hacienda\, Contratación\, Personal y Modernización Administrativa del Ayuntamiento de Llanera\\n\\nVer en Contratero: https://contratero.es/contracts/9357/2024
URL:https://contratero.es/contracts/9357/2024
STATUS:CONFIRMED
BEGIN:VALARM
TRIGGER:-P1D
ACTION:DISPLAY
DESCRIPTION:Recordatorio: Contrato de suministro en régi
END:VALARM
END:VEVENT
END:VCALENDAR