BEGIN:VCALENDAR
VERSION:2.0
PRODID:-//Contratero//ES
CALSCALE:GREGORIAN
METHOD:PUBLISH
BEGIN:VEVENT
UID:94/2021@contratero.es
DTSTAMP:20260424T140216Z
DTSTART:20211118T235959
DTEND:20211119T005959
SUMMARY:Cierre: Servicios para dar continuidad al proyecto de admi
DESCRIPTION:Servicios para dar continuidad al proyecto de administración electrónica en el cumplimiento de las obligaciones derivadas de la Ley 39/2015\\n\\nOrganismo: Alcaldía del Ayuntamiento de Benabarre\\n\\nVer en Contratero: https://contratero.es/contracts/94/2021
URL:https://contratero.es/contracts/94/2021
STATUS:CONFIRMED
BEGIN:VALARM
TRIGGER:-P1D
ACTION:DISPLAY
DESCRIPTION:Recordatorio: Servicios para dar continuidad
END:VALARM
END:VEVENT
END:VCALENDAR