BEGIN:VCALENDAR
VERSION:2.0
PRODID:-//Contratero//ES
CALSCALE:GREGORIAN
METHOD:PUBLISH
BEGIN:VEVENT
UID:947/2023@contratero.es
DTSTAMP:20260422T225438Z
DTSTART:20251008T235959
DTEND:20251009T005959
SUMMARY:Cierre: Establecer las condiciones administrativas para co
DESCRIPTION:Establecer las condiciones administrativas para contratar mediante procedimiento la instalación y mantenimiento de un nuevo sistema de monitorización de la calidad atmosférica en el CD. José Antonio C...\\n\\nOrganismo: Junta de Gobierno del Ayuntamiento de Ceutí\\n\\nVer en Contratero: https://contratero.es/contracts/947/2023
URL:https://contratero.es/contracts/947/2023
STATUS:CONFIRMED
BEGIN:VALARM
TRIGGER:-P1D
ACTION:DISPLAY
DESCRIPTION:Recordatorio: Establecer las condiciones adm
END:VALARM
END:VEVENT
END:VCALENDAR