BEGIN:VCALENDAR
VERSION:2.0
PRODID:-//Contratero//ES
CALSCALE:GREGORIAN
METHOD:PUBLISH
BEGIN:VEVENT
UID:956027Q@contratero.es
DTSTAMP:20260423T152218Z
DTSTART:20240813T235959
DTEND:20240814T005959
SUMMARY:Cierre: Suministro para la renovación de licencias del ant
DESCRIPTION:Suministro para la renovación de licencias del antivirus corporativo Kaspersky\\n\\nOrganismo: Junta de Gobierno del Ayuntamiento de Cieza (Murcia)\\n\\nVer en Contratero: https://contratero.es/contracts/956027Q
URL:https://contratero.es/contracts/956027Q
STATUS:CONFIRMED
BEGIN:VALARM
TRIGGER:-P1D
ACTION:DISPLAY
DESCRIPTION:Recordatorio: Suministro para la renovación 
END:VALARM
END:VEVENT
END:VCALENDAR