BEGIN:VCALENDAR
VERSION:2.0
PRODID:-//Contratero//ES
CALSCALE:GREGORIAN
METHOD:PUBLISH
BEGIN:VEVENT
UID:97/2022@contratero.es
DTSTAMP:20260424T001313Z
DTSTART:20220420T235959
DTEND:20220421T005959
SUMMARY:Cierre: Servicio de mantenimiento\, asistencia técnica y ac
DESCRIPTION:Servicio de mantenimiento\, asistencia técnica y actualización de la aplicación informática de control de accesos y gestión de los servicios deportivos de la Mancomunidad Intermunicipal Barrio del Cris...\\n\\nOrganismo: Presidente de la Mancomunidad Barrio del Cristo Aldaia-Quart de Poblet\\n\\nVer en Contratero: https://contratero.es/contracts/97/2022
URL:https://contratero.es/contracts/97/2022
STATUS:CONFIRMED
BEGIN:VALARM
TRIGGER:-P1D
ACTION:DISPLAY
DESCRIPTION:Recordatorio: Servicio de mantenimiento\, asi
END:VALARM
END:VEVENT
END:VCALENDAR