BEGIN:VCALENDAR
VERSION:2.0
PRODID:-//Contratero//ES
CALSCALE:GREGORIAN
METHOD:PUBLISH
BEGIN:VEVENT
UID:971250J@contratero.es
DTSTAMP:20260423T071125Z
DTSTART:20241018T235959
DTEND:20241019T005959
SUMMARY:Cierre: Renovación de licencias de AUTOCAD
DESCRIPTION:Renovación de licencias de AUTOCAD\\n\\nOrganismo: Junta de Gobierno del Ayuntamiento de Cieza (Murcia)\\n\\nVer en Contratero: https://contratero.es/contracts/971250J
URL:https://contratero.es/contracts/971250J
STATUS:CONFIRMED
BEGIN:VALARM
TRIGGER:-P1D
ACTION:DISPLAY
DESCRIPTION:Recordatorio: Renovación de licencias de AUT
END:VALARM
END:VEVENT
END:VCALENDAR