BEGIN:VCALENDAR
VERSION:2.0
PRODID:-//Contratero//ES
CALSCALE:GREGORIAN
METHOD:PUBLISH
BEGIN:VEVENT
UID:984654A@contratero.es
DTSTAMP:20260423T044435Z
DTSTART:20230215T235959
DTEND:20230216T005959
SUMMARY:Cierre: Servicio de reinstalación de ordenadores
DESCRIPTION:Servicio de reinstalación de ordenadores\\n\\nOrganismo: Alcaldía del Ayuntamiento de Puçol\\n\\nVer en Contratero: https://contratero.es/contracts/984654A
URL:https://contratero.es/contracts/984654A
STATUS:CONFIRMED
BEGIN:VALARM
TRIGGER:-P1D
ACTION:DISPLAY
DESCRIPTION:Recordatorio: Servicio de reinstalación de o
END:VALARM
END:VEVENT
END:VCALENDAR