BEGIN:VCALENDAR
VERSION:2.0
PRODID:-//Contratero//ES
CALSCALE:GREGORIAN
METHOD:PUBLISH
BEGIN:VEVENT
UID:9906/2024@contratero.es
DTSTAMP:20260421T125413Z
DTSTART:20240711T235959
DTEND:20240712T005959
SUMMARY:Cierre: Servicios de mantenimiento del aplicativo VideoAct
DESCRIPTION:Servicios de mantenimiento del aplicativo VideoActasTM implantado en el Ayuntamiento de Valdepeñas.\\n\\nOrganismo: Alcaldía del Ayuntamiento de Valdepeñas\\n\\nVer en Contratero: https://contratero.es/contracts/9906/2024
URL:https://contratero.es/contracts/9906/2024
STATUS:CONFIRMED
BEGIN:VALARM
TRIGGER:-P1D
ACTION:DISPLAY
DESCRIPTION:Recordatorio: Servicios de mantenimiento del
END:VALARM
END:VEVENT
END:VCALENDAR