BEGIN:VCALENDAR
VERSION:2.0
PRODID:-//Contratero//ES
CALSCALE:GREGORIAN
METHOD:PUBLISH
BEGIN:VEVENT
UID:9977/2023@contratero.es
DTSTAMP:20260426T031844Z
DTSTART:20231218T235959
DTEND:20231219T005959
SUMMARY:Cierre: Servicio de mantenimiento\, soporte\, asistencia ava
DESCRIPTION:Servicio de mantenimiento\, soporte\, asistencia avanzada y alojamiento Cloud de aplicaciones informáticas Municipales\\n\\nOrganismo: Junta de Gobierno del Ayuntamiento de Orihuela\\n\\nVer en Contratero: https://contratero.es/contracts/9977/2023
URL:https://contratero.es/contracts/9977/2023
STATUS:CONFIRMED
BEGIN:VALARM
TRIGGER:-P1D
ACTION:DISPLAY
DESCRIPTION:Recordatorio: Servicio de mantenimiento\, sop
END:VALARM
END:VEVENT
END:VCALENDAR