BEGIN:VCALENDAR
VERSION:2.0
PRODID:-//Contratero//ES
CALSCALE:GREGORIAN
METHOD:PUBLISH
BEGIN:VEVENT
UID:@2023/000551@contratero.es
DTSTAMP:20260421T053623Z
DTSTART:20230621T235959
DTEND:20230622T005959
SUMMARY:Cierre: Servicio de ejercicios intercomparativos físico-qu
DESCRIPTION:Servicio de ejercicios intercomparativos físico-químicos.\\n\\nOrganismo: Órganos Directivos del Ayuntamiento de Sevilla\\n\\nVer en Contratero: https://contratero.es/contracts/@2023/000551
URL:https://contratero.es/contracts/@2023/000551
STATUS:CONFIRMED
BEGIN:VALARM
TRIGGER:-P1D
ACTION:DISPLAY
DESCRIPTION:Recordatorio: Servicio de ejercicios interco
END:VALARM
END:VEVENT
END:VCALENDAR