BEGIN:VCALENDAR
VERSION:2.0
PRODID:-//Contratero//ES
CALSCALE:GREGORIAN
METHOD:PUBLISH
BEGIN:VEVENT
UID:A01-0118@contratero.es
DTSTAMP:20260425T125120Z
DTSTART:20180202T235959
DTEND:20180203T005959
SUMMARY:Cierre: Contratación de la renovación del mantenimiento de
DESCRIPTION:Contratación de la renovación del mantenimiento de las licencias de uso\, suscripción y soporte de software SALESFORCE.\\n\\nOrganismo: Jefatura de Unidad de Medios Internos -Área de Compras de la Compañía Española de Seguros de Crédito a la Exportación S.A.\, S.M.E. (CESCE)\\n\\nVer en Contratero: https://contratero.es/contracts/A01-0118
URL:https://contratero.es/contracts/A01-0118
STATUS:CONFIRMED
BEGIN:VALARM
TRIGGER:-P1D
ACTION:DISPLAY
DESCRIPTION:Recordatorio: Contratación de la renovación 
END:VALARM
END:VEVENT
END:VCALENDAR