BEGIN:VCALENDAR
VERSION:2.0
PRODID:-//Contratero//ES
CALSCALE:GREGORIAN
METHOD:PUBLISH
BEGIN:VEVENT
UID:A05-0323@contratero.es
DTSTAMP:20260422T114705Z
DTSTART:20230313T235959
DTEND:20230314T005959
SUMMARY:Cierre: Contratación de la suscripción de las licencias y 
DESCRIPTION:Contratación de la suscripción de las licencias y soporte del software Google Workspace de Google.\\n\\nOrganismo: Jefatura de Unidad de Medios Internos -Área de Compras de la Compañía Española de Seguros de Crédito a la Exportación S.A.\, S.M.E. (CESCE)\\n\\nVer en Contratero: https://contratero.es/contracts/A05-0323
URL:https://contratero.es/contracts/A05-0323
STATUS:CONFIRMED
BEGIN:VALARM
TRIGGER:-P1D
ACTION:DISPLAY
DESCRIPTION:Recordatorio: Contratación de la suscripción
END:VALARM
END:VEVENT
END:VCALENDAR