BEGIN:VCALENDAR
VERSION:2.0
PRODID:-//Contratero//ES
CALSCALE:GREGORIAN
METHOD:PUBLISH
BEGIN:VEVENT
UID:A05-0422@contratero.es
DTSTAMP:20260423T015749Z
DTSTART:20220603T235959
DTEND:20220604T005959
SUMMARY:Cierre: Adquisición e implantación de una herramienta glob
DESCRIPTION:Adquisición e implantación de una herramienta global que permita integrar la gestión de mediadores de los ramos de Crédito y Caución de todas las compañías de seguros del grupo CESCE.\\n\\nOrganismo: Jefatura de Unidad de Medios Internos -Área de Compras de la Compañía Española de Seguros de Crédito a la Exportación S.A.\, S.M.E. (CESCE)\\n\\nVer en Contratero: https://contratero.es/contracts/A05-0422
URL:https://contratero.es/contracts/A05-0422
STATUS:CONFIRMED
BEGIN:VALARM
TRIGGER:-P1D
ACTION:DISPLAY
DESCRIPTION:Recordatorio: Adquisición e implantación de 
END:VALARM
END:VEVENT
END:VCALENDAR