BEGIN:VCALENDAR
VERSION:2.0
PRODID:-//Contratero//ES
CALSCALE:GREGORIAN
METHOD:PUBLISH
BEGIN:VEVENT
UID:A09-0321@contratero.es
DTSTAMP:20260425T124957Z
DTSTART:20210405T235959
DTEND:20210406T005959
SUMMARY:Cierre: Contratación de una bolsa de consumo de horas de s
DESCRIPTION:Contratación de una bolsa de consumo de horas de servicios profesionales para tareas de diseño y creatividad en los distintos portales y aplicaciones de CESCE SA\, SME.\\n\\nOrganismo: Jefatura de Unidad de Medios Internos -Área de Compras de la Compañía Española de Seguros de Crédito a la Exportación S.A.\, S.M.E. (CESCE)\\n\\nVer en Contratero: https://contratero.es/contracts/A09-0321
URL:https://contratero.es/contracts/A09-0321
STATUS:CONFIRMED
BEGIN:VALARM
TRIGGER:-P1D
ACTION:DISPLAY
DESCRIPTION:Recordatorio: Contratación de una bolsa de c
END:VALARM
END:VEVENT
END:VCALENDAR