BEGIN:VCALENDAR
VERSION:2.0
PRODID:-//Contratero//ES
CALSCALE:GREGORIAN
METHOD:PUBLISH
BEGIN:VEVENT
UID:A13-0324@contratero.es
DTSTAMP:20260424T051223Z
DTSTART:20240318T235959
DTEND:20240319T005959
SUMMARY:Cierre: Renovación del soporte y mantenimiento de licencia
DESCRIPTION:Renovación del soporte y mantenimiento de licencias para Autocad LT.\\n\\nOrganismo: Jefatura de Unidad de Medios Internos -Área de Compras de la Compañía Española de Seguros de Crédito a la Exportación S.A.\, S.M.E. (CESCE)\\n\\nVer en Contratero: https://contratero.es/contracts/A13-0324
URL:https://contratero.es/contracts/A13-0324
STATUS:CONFIRMED
BEGIN:VALARM
TRIGGER:-P1D
ACTION:DISPLAY
DESCRIPTION:Recordatorio: Renovación del soporte y mante
END:VALARM
END:VEVENT
END:VCALENDAR