BEGIN:VCALENDAR
VERSION:2.0
PRODID:-//Contratero//ES
CALSCALE:GREGORIAN
METHOD:PUBLISH
BEGIN:VEVENT
UID:A18-0720@contratero.es
DTSTAMP:20260423T015815Z
DTSTART:20200908T235959
DTEND:20200909T005959
SUMMARY:Cierre: Adquisición de una herramienta para la gestión y s
DESCRIPTION:Adquisición de una herramienta para la gestión y seguimiento de actividades de todos los procesos de recuperación de deuda\, tanto en gestión amistosa\, como en la fase de prejudicial y judicial en el a...\\n\\nOrganismo: Jefatura de Unidad de Medios Internos -Área de Compras de la Compañía Española de Seguros de Crédito a la Exportación S.A.\, S.M.E. (CESCE)\\n\\nVer en Contratero: https://contratero.es/contracts/A18-0720
URL:https://contratero.es/contracts/A18-0720
STATUS:CONFIRMED
BEGIN:VALARM
TRIGGER:-P1D
ACTION:DISPLAY
DESCRIPTION:Recordatorio: Adquisición de una herramienta
END:VALARM
END:VEVENT
END:VCALENDAR