BEGIN:VCALENDAR
VERSION:2.0
PRODID:-//Contratero//ES
CALSCALE:GREGORIAN
METHOD:PUBLISH
BEGIN:VEVENT
UID:A2019/000449@contratero.es
DTSTAMP:20260425T230137Z
DTSTART:20190103T235959
DTEND:20190104T005959
SUMMARY:Cierre: Servicio para la aplicación\, gestión de datos y co
DESCRIPTION:Servicio para la aplicación\, gestión de datos y codificación para la muestra ampliada de la Comunidad de Castilla y León para el estudio “ETIMSS 2019” de la IEA.\\n\\nOrganismo: Consejería de Educación de la Junta de Castilla y León\\n\\nVer en Contratero: https://contratero.es/contracts/A2019/000449
URL:https://contratero.es/contracts/A2019/000449
STATUS:CONFIRMED
BEGIN:VALARM
TRIGGER:-P1D
ACTION:DISPLAY
DESCRIPTION:Recordatorio: Servicio para la aplicación\, g
END:VALARM
END:VEVENT
END:VCALENDAR