BEGIN:VCALENDAR
VERSION:2.0
PRODID:-//Contratero//ES
CALSCALE:GREGORIAN
METHOD:PUBLISH
BEGIN:VEVENT
UID:A2019/002467@contratero.es
DTSTAMP:20260425T145828Z
DTSTART:20190620T235959
DTEND:20190621T005959
SUMMARY:Cierre: Sistema concesional\, estudios y análisis económico
DESCRIPTION:Sistema concesional\, estudios y análisis económicos (DGTR 03-19\; A2019/002467)\\n\\nOrganismo: Consejería de Fomento y Medio Ambiente de la Junta de Castilla y León\\n\\nVer en Contratero: https://contratero.es/contracts/A2019/002467
URL:https://contratero.es/contracts/A2019/002467
STATUS:CONFIRMED
BEGIN:VALARM
TRIGGER:-P1D
ACTION:DISPLAY
DESCRIPTION:Recordatorio: Sistema concesional\, estudios 
END:VALARM
END:VEVENT
END:VCALENDAR