BEGIN:VCALENDAR
VERSION:2.0
PRODID:-//Contratero//ES
CALSCALE:GREGORIAN
METHOD:PUBLISH
BEGIN:VEVENT
UID:A2020/001212@contratero.es
DTSTAMP:20260422T194425Z
DTSTART:20200608T235959
DTEND:20200609T005959
SUMMARY:Cierre: Servicios de mantenimiento correctivo\, adaptativo\,
DESCRIPTION:Servicios de mantenimiento correctivo\, adaptativo\, perfectivo y evolutivo del Sistema Integral para la Gestión de la Contratación Pública en la Administración de la Comunidad de Castilla y León (DUERO...\\n\\nOrganismo: Consejería de Economía y Hacienda de la Junta de Castilla y León\\n\\nVer en Contratero: https://contratero.es/contracts/A2020/001212
URL:https://contratero.es/contracts/A2020/001212
STATUS:CONFIRMED
BEGIN:VALARM
TRIGGER:-P1D
ACTION:DISPLAY
DESCRIPTION:Recordatorio: Servicios de mantenimiento cor
END:VALARM
END:VEVENT
END:VCALENDAR