BEGIN:VCALENDAR
VERSION:2.0
PRODID:-//Contratero//ES
CALSCALE:GREGORIAN
METHOD:PUBLISH
BEGIN:VEVENT
UID:A2021/000378@contratero.es
DTSTAMP:20260423T093112Z
DTSTART:20210507T235959
DTEND:20210508T005959
SUMMARY:Cierre: Servicio de desarrollo de software sobre los siste
DESCRIPTION:Servicio de desarrollo de software sobre los sistemas de información corporativos de Administración Electrónica implantados en la Administración de Castilla y León durante el periodo 2021-2023\, cofina...\\n\\nOrganismo: Consejería de Medio Ambiente\, Vivienda y Ordenación del Territorio de la Junta de Castilla y León\\n\\nVer en Contratero: https://contratero.es/contracts/A2021/000378
URL:https://contratero.es/contracts/A2021/000378
STATUS:CONFIRMED
BEGIN:VALARM
TRIGGER:-P1D
ACTION:DISPLAY
DESCRIPTION:Recordatorio: Servicio de desarrollo de soft
END:VALARM
END:VEVENT
END:VCALENDAR