BEGIN:VCALENDAR
VERSION:2.0
PRODID:-//Contratero//ES
CALSCALE:GREGORIAN
METHOD:PUBLISH
BEGIN:VEVENT
UID:A2021/004081@contratero.es
DTSTAMP:20260422T194149Z
DTSTART:20210521T235959
DTEND:20210522T005959
SUMMARY:Cierre: Asist. técnica para servicio de mantenim.\, asisten
DESCRIPTION:Asist. técnica para servicio de mantenim.\, asistencia a usuarios y servicios asociados del Sist. Infor. para proyecto Pérsigo\, basado en el ERP BAS-GHR\, y desarrollos específicos realizados en .NET C#\\n\\nOrganismo: Consejería de la Presidencia de la Junta de Castilla y León\\n\\nVer en Contratero: https://contratero.es/contracts/A2021/004081
URL:https://contratero.es/contracts/A2021/004081
STATUS:CONFIRMED
BEGIN:VALARM
TRIGGER:-P1D
ACTION:DISPLAY
DESCRIPTION:Recordatorio: Asist. técnica para servicio d
END:VALARM
END:VEVENT
END:VCALENDAR