BEGIN:VCALENDAR
VERSION:2.0
PRODID:-//Contratero//ES
CALSCALE:GREGORIAN
METHOD:PUBLISH
BEGIN:VEVENT
UID:A2021/011395@contratero.es
DTSTAMP:20260422T062720Z
DTSTART:20211029T235959
DTEND:20211030T005959
SUMMARY:Cierre: Adquisición de nuevas licencias de MySAP Business 
DESCRIPTION:Adquisición de nuevas licencias de MySAP Business Suite\, 500 de tipo Professional y de 100 de tipo Limited Professional y contratación del mantenimiento y soporte de dichas licencias.\\n\\nOrganismo: Consejería de Economía y Hacienda de la Junta de Castilla y León\\n\\nVer en Contratero: https://contratero.es/contracts/A2021/011395
URL:https://contratero.es/contracts/A2021/011395
STATUS:CONFIRMED
BEGIN:VALARM
TRIGGER:-P1D
ACTION:DISPLAY
DESCRIPTION:Recordatorio: Adquisición de nuevas licencia
END:VALARM
END:VEVENT
END:VCALENDAR