BEGIN:VCALENDAR
VERSION:2.0
PRODID:-//Contratero//ES
CALSCALE:GREGORIAN
METHOD:PUBLISH
BEGIN:VEVENT
UID:A2021/011784@contratero.es
DTSTAMP:20260425T030957Z
DTSTART:20210924T235959
DTEND:20210925T005959
SUMMARY:Cierre: Servicio de búsqueda web en el ámbito de la presen
DESCRIPTION:Servicio de búsqueda web en el ámbito de la presencia de la Comunidad de Castilla y León en Internet\\n\\nOrganismo: Consejería de Transparencia\, Ordenación del Territorio y Acción Exterior de la Junta de Castilla y León\\n\\nVer en Contratero: https://contratero.es/contracts/A2021/011784
URL:https://contratero.es/contracts/A2021/011784
STATUS:CONFIRMED
BEGIN:VALARM
TRIGGER:-P1D
ACTION:DISPLAY
DESCRIPTION:Recordatorio: Servicio de búsqueda web en el
END:VALARM
END:VEVENT
END:VCALENDAR