BEGIN:VCALENDAR
VERSION:2.0
PRODID:-//Contratero//ES
CALSCALE:GREGORIAN
METHOD:PUBLISH
BEGIN:VEVENT
UID:A2022/000014@contratero.es
DTSTAMP:20260422T012920Z
DTSTART:20211122T235959
DTEND:20211123T005959
SUMMARY:Cierre: La implantación\, administración\, mantenimiento y m
DESCRIPTION:La implantación\, administración\, mantenimiento y mejora de la plataforma tecnológica\, así como los medios y servicios que da soporte al Centro de Emergencias 1-1-2 y el Centro Coordinador de Urgencias...\\n\\nOrganismo: Consejería de Medio Ambiente\, Vivienda y Ordenación del Territorio de la Junta de Castilla y León\\n\\nVer en Contratero: https://contratero.es/contracts/A2022/000014
URL:https://contratero.es/contracts/A2022/000014
STATUS:CONFIRMED
BEGIN:VALARM
TRIGGER:-P1D
ACTION:DISPLAY
DESCRIPTION:Recordatorio: La implantación\, administració
END:VALARM
END:VEVENT
END:VCALENDAR