BEGIN:VCALENDAR
VERSION:2.0
PRODID:-//Contratero//ES
CALSCALE:GREGORIAN
METHOD:PUBLISH
BEGIN:VEVENT
UID:A2022/000868@contratero.es
DTSTAMP:20260423T004917Z
DTSTART:20220412T235959
DTEND:20220413T005959
SUMMARY:Cierre: Contratación del servicio de inventario y cataloga
DESCRIPTION:Contratación del servicio de inventario y catalogación de medios y recursos de autoprotección de Castilla y León. Operación financiada por el Fondo Europeo FEDER REACT EU como parte de la respuesta de...\\n\\nOrganismo: Consejería de Medio Ambiente\, Vivienda y Ordenación del Territorio de la Junta de Castilla y León\\n\\nVer en Contratero: https://contratero.es/contracts/A2022/000868
URL:https://contratero.es/contracts/A2022/000868
STATUS:CONFIRMED
BEGIN:VALARM
TRIGGER:-P1D
ACTION:DISPLAY
DESCRIPTION:Recordatorio: Contratación del servicio de i
END:VALARM
END:VEVENT
END:VCALENDAR