BEGIN:VCALENDAR
VERSION:2.0
PRODID:-//Contratero//ES
CALSCALE:GREGORIAN
METHOD:PUBLISH
BEGIN:VEVENT
UID:A2023/000045@contratero.es
DTSTAMP:20260423T195822Z
DTSTART:20221020T235959
DTEND:20221021T005959
SUMMARY:Cierre: La renovación y ampliación de los derechos de uso 
DESCRIPTION:La renovación y ampliación de los derechos de uso y el soporte asociado de las licencias corporativas del software de virtualización VmWare.\\n\\nOrganismo: Consejería de Movilidad y Transformación Digital\\n\\nVer en Contratero: https://contratero.es/contracts/A2023/000045
URL:https://contratero.es/contracts/A2023/000045
STATUS:CONFIRMED
BEGIN:VALARM
TRIGGER:-P1D
ACTION:DISPLAY
DESCRIPTION:Recordatorio: La renovación y ampliación de 
END:VALARM
END:VEVENT
END:VCALENDAR