BEGIN:VCALENDAR
VERSION:2.0
PRODID:-//Contratero//ES
CALSCALE:GREGORIAN
METHOD:PUBLISH
BEGIN:VEVENT
UID:A2023/000296@contratero.es
DTSTAMP:20260420T062714Z
DTSTART:20230105T235959
DTEND:20230106T005959
SUMMARY:Cierre: Recogida y análisis de la información de los indic
DESCRIPTION:Recogida y análisis de la información de los indicadores básicos de la evolución del turismo en Castilla y León y elaboración de resultados\, así como de la ocupación de albergues y encuesta a peregrin...\\n\\nOrganismo: Consejería de Cultura\, Turismo y Deporte de la Junta de Castilla y León\\n\\nVer en Contratero: https://contratero.es/contracts/A2023/000296
URL:https://contratero.es/contracts/A2023/000296
STATUS:CONFIRMED
BEGIN:VALARM
TRIGGER:-P1D
ACTION:DISPLAY
DESCRIPTION:Recordatorio: Recogida y análisis de la info
END:VALARM
END:VEVENT
END:VCALENDAR