BEGIN:VCALENDAR
VERSION:2.0
PRODID:-//Contratero//ES
CALSCALE:GREGORIAN
METHOD:PUBLISH
BEGIN:VEVENT
UID:A2023/003009@contratero.es
DTSTAMP:20260421T154556Z
DTSTART:20230713T235959
DTEND:20230714T005959
SUMMARY:Cierre: Servicio de mantenimiento evolutivo y correctivo d
DESCRIPTION:Servicio de mantenimiento evolutivo y correctivo del Sistema de Información integrado del Instituto para la Competitividad Empresarial de Castilla y León (ICE) durante el periodo 2023-2025\\n\\nOrganismo: Instituto para la Competitividad Empresarial de la Junta de Castilla y León\\n\\nVer en Contratero: https://contratero.es/contracts/A2023/003009
URL:https://contratero.es/contracts/A2023/003009
STATUS:CONFIRMED
BEGIN:VALARM
TRIGGER:-P1D
ACTION:DISPLAY
DESCRIPTION:Recordatorio: Servicio de mantenimiento evol
END:VALARM
END:VEVENT
END:VCALENDAR