BEGIN:VCALENDAR
VERSION:2.0
PRODID:-//Contratero//ES
CALSCALE:GREGORIAN
METHOD:PUBLISH
BEGIN:VEVENT
UID:A2023/003812@contratero.es
DTSTAMP:20260422T004706Z
DTSTART:20230529T235959
DTEND:20230530T005959
SUMMARY:Cierre: Digitalización de fichas e imágenes del inventario
DESCRIPTION:Digitalización de fichas e imágenes del inventario de bienes muebles de tipología religiosa de diversas provincias de Castilla y León e incorporación de la información en la base de datos de Patrimoni...\\n\\nOrganismo: Consejería de Cultura\, Turismo y Deporte de la Junta de Castilla y León\\n\\nVer en Contratero: https://contratero.es/contracts/A2023/003812
URL:https://contratero.es/contracts/A2023/003812
STATUS:CONFIRMED
BEGIN:VALARM
TRIGGER:-P1D
ACTION:DISPLAY
DESCRIPTION:Recordatorio: Digitalización de fichas e imá
END:VALARM
END:VEVENT
END:VCALENDAR