BEGIN:VCALENDAR
VERSION:2.0
PRODID:-//Contratero//ES
CALSCALE:GREGORIAN
METHOD:PUBLISH
BEGIN:VEVENT
UID:A2023/012206@contratero.es
DTSTAMP:20260422T113627Z
DTSTART:20231113T235959
DTEND:20231114T005959
SUMMARY:Cierre: La renovación del soporte del hardware de los equi
DESCRIPTION:La renovación del soporte del hardware de los equipos Dell EMC que dan servicio a siete Delegaciones Territoriales de la ACCyL. Todos los equipos cuyo soporte desea renovarse son del fabricante Dell E...\\n\\nOrganismo: Consejería de Movilidad y Transformación Digital\\n\\nVer en Contratero: https://contratero.es/contracts/A2023/012206
URL:https://contratero.es/contracts/A2023/012206
STATUS:CONFIRMED
BEGIN:VALARM
TRIGGER:-P1D
ACTION:DISPLAY
DESCRIPTION:Recordatorio: La renovación del soporte del 
END:VALARM
END:VEVENT
END:VCALENDAR