BEGIN:VCALENDAR
VERSION:2.0
PRODID:-//Contratero//ES
CALSCALE:GREGORIAN
METHOD:PUBLISH
BEGIN:VEVENT
UID:A2024/000403@contratero.es
DTSTAMP:20260423T002444Z
DTSTART:20240130T235959
DTEND:20240131T005959
SUMMARY:Cierre: Realización de servicios de consultoría y desarrol
DESCRIPTION:Realización de servicios de consultoría y desarrollo de componentes y servicios de automatización e hiperautomatización de la contratación administrativa electrónica en la Junta de Castilla y León.\\n\\nOrganismo: Consejería de Economía y Hacienda de la Junta de Castilla y León\\n\\nVer en Contratero: https://contratero.es/contracts/A2024/000403
URL:https://contratero.es/contracts/A2024/000403
STATUS:CONFIRMED
BEGIN:VALARM
TRIGGER:-P1D
ACTION:DISPLAY
DESCRIPTION:Recordatorio: Realización de servicios de co
END:VALARM
END:VEVENT
END:VCALENDAR