BEGIN:VCALENDAR
VERSION:2.0
PRODID:-//Contratero//ES
CALSCALE:GREGORIAN
METHOD:PUBLISH
BEGIN:VEVENT
UID:A2024/001105@contratero.es
DTSTAMP:20260422T174559Z
DTSTART:20240621T235959
DTEND:20240622T005959
SUMMARY:Cierre: Diseño e implementación de las fases de los actual
DESCRIPTION:Diseño e implementación de las fases de los actuales procesos que implican gestión de papel\, mejoras cualitativas en distintos sistemas de la GSS\, implantar una plataforma de Business Intelligence. Pl...\\n\\nOrganismo: Gerencia de Servicios Sociales de la Junta de Castilla y León\\n\\nVer en Contratero: https://contratero.es/contracts/A2024/001105
URL:https://contratero.es/contracts/A2024/001105
STATUS:CONFIRMED
BEGIN:VALARM
TRIGGER:-P1D
ACTION:DISPLAY
DESCRIPTION:Recordatorio: Diseño e implementación de las
END:VALARM
END:VEVENT
END:VCALENDAR