BEGIN:VCALENDAR
VERSION:2.0
PRODID:-//Contratero//ES
CALSCALE:GREGORIAN
METHOD:PUBLISH
BEGIN:VEVENT
UID:A2024/001379@contratero.es
DTSTAMP:20260422T161101Z
DTSTART:20240726T235959
DTEND:20240727T005959
SUMMARY:Cierre: Contratación del servicio de Mantenimiento Evoluti
DESCRIPTION:Contratación del servicio de Mantenimiento Evolutivo de los módulos del sistema de acceso unificado a los servicios sociales.\\n\\nOrganismo: Gerencia de Servicios Sociales de la Junta de Castilla y León\\n\\nVer en Contratero: https://contratero.es/contracts/A2024/001379
URL:https://contratero.es/contracts/A2024/001379
STATUS:CONFIRMED
BEGIN:VALARM
TRIGGER:-P1D
ACTION:DISPLAY
DESCRIPTION:Recordatorio: Contratación del servicio de M
END:VALARM
END:VEVENT
END:VCALENDAR