BEGIN:VCALENDAR
VERSION:2.0
PRODID:-//Contratero//ES
CALSCALE:GREGORIAN
METHOD:PUBLISH
BEGIN:VEVENT
UID:A2024/005615@contratero.es
DTSTAMP:20260423T212337Z
DTSTART:20240729T235959
DTEND:20240730T005959
SUMMARY:Cierre: Suministro de los sistemas tecnológicos para la ex
DESCRIPTION:Suministro de los sistemas tecnológicos para la explotación de un centro virtual de atención a víctimas de agresiones sexuales junto con el equipo de aseguramiento de la disponibilidad de los sistemas...\\n\\nOrganismo: Gerencia de Servicios Sociales de la Junta de Castilla y León\\n\\nVer en Contratero: https://contratero.es/contracts/A2024/005615
URL:https://contratero.es/contracts/A2024/005615
STATUS:CONFIRMED
BEGIN:VALARM
TRIGGER:-P1D
ACTION:DISPLAY
DESCRIPTION:Recordatorio: Suministro de los sistemas tec
END:VALARM
END:VEVENT
END:VCALENDAR