BEGIN:VCALENDAR
VERSION:2.0
PRODID:-//Contratero//ES
CALSCALE:GREGORIAN
METHOD:PUBLISH
BEGIN:VEVENT
UID:A2024/009026@contratero.es
DTSTAMP:20260422T062920Z
DTSTART:20240731T235959
DTEND:20240801T005959
SUMMARY:Cierre: A2024/009026.- La renovación del soporte del hardw
DESCRIPTION:A2024/009026.- La renovación del soporte del hardware de los equipos Dell EMC que dan servicio a siete Delegaciones Territoriales de la ACCyL. Todos los equipos cuyo soporte desea renovarse son del fa...\\n\\nOrganismo: Consejería de Movilidad y Transformación Digital\\n\\nVer en Contratero: https://contratero.es/contracts/A2024/009026
URL:https://contratero.es/contracts/A2024/009026
STATUS:CONFIRMED
BEGIN:VALARM
TRIGGER:-P1D
ACTION:DISPLAY
DESCRIPTION:Recordatorio: A2024/009026.- La renovación d
END:VALARM
END:VEVENT
END:VCALENDAR