BEGIN:VCALENDAR
VERSION:2.0
PRODID:-//Contratero//ES
CALSCALE:GREGORIAN
METHOD:PUBLISH
BEGIN:VEVENT
UID:A2025/000504@contratero.es
DTSTAMP:20260420T095825Z
DTSTART:20241227T235959
DTEND:20241228T005959
SUMMARY:Cierre: Servicio de grabación de datos derivados de las si
DESCRIPTION:Servicio de grabación de datos derivados de las siguientes convocatorias: Programa "RELEO PLUS" y realización de estudios postobligatorios para los cursos escolares 2024-2025 y 2025-2026\\n\\nOrganismo: Consejería de Educación de la Junta de Castilla y León\\n\\nVer en Contratero: https://contratero.es/contracts/A2025/000504
URL:https://contratero.es/contracts/A2025/000504
STATUS:CONFIRMED
BEGIN:VALARM
TRIGGER:-P1D
ACTION:DISPLAY
DESCRIPTION:Recordatorio: Servicio de grabación de datos
END:VALARM
END:VEVENT
END:VCALENDAR